BEGIN:VCALENDAR
VERSION:2.0
PRODID:-//wp-events-plugin.com//7.2.3.1//EN
TZID:America/Chicago
X-WR-TIMEZONE:America/Chicago
BEGIN:VEVENT
UID:613@salemjax.net
DTSTART:20260428T183000Z
DTEND:20260428T200000Z
DTSTAMP:20251224T162705Z
URL:https://salemjax.net/events/elders-meeting-38/
SUMMARY:Elder's Meeting
DESCRIPTION:
END:VEVENT
END:VCALENDAR