BEGIN:VCALENDAR
VERSION:2.0
PRODID:-//wp-events-plugin.com//7.2.3.1//EN
TZID:America/Chicago
X-WR-TIMEZONE:America/Chicago
BEGIN:VEVENT
UID:616@salemjax.net
DTSTART:20260728T183000Z
DTEND:20260728T200000Z
DTSTAMP:20251224T162806Z
URL:https://salemjax.net/events/elders-meeting-41/
SUMMARY:Elder's Meeting
DESCRIPTION:
END:VEVENT
END:VCALENDAR