BEGIN:VCALENDAR
VERSION:2.0
PRODID:-//wp-events-plugin.com//7.2.3.1//EN
TZID:America/Chicago
X-WR-TIMEZONE:America/Chicago
BEGIN:VEVENT
UID:617@salemjax.net
DTSTART:20260825T183000Z
DTEND:20260825T200000Z
DTSTAMP:20251224T162825Z
URL:https://salemjax.net/events/elders-meeting-42/
SUMMARY:Elder's Meeting
DESCRIPTION:
END:VEVENT
END:VCALENDAR