BEGIN:VCALENDAR
VERSION:2.0
PRODID:-//wp-events-plugin.com//7.2.3.1//EN
TZID:America/Chicago
X-WR-TIMEZONE:America/Chicago
BEGIN:VEVENT
UID:686@salemjax.net
DTSTART;TZID=America/Chicago:20260423T180000
DTEND;TZID=America/Chicago:20260423T200000
DTSTAMP:20260409T145545Z
URL:https://salemjax.net/events/fine-arts-night/
SUMMARY:Fine Arts Night
DESCRIPTION:Come and see our individual and classroom talent showcase\, alo
 ng with our display of students' themed artwork on Thursday\, April 23\, a
 t 6:00 p.m. Join us for an evening filled with creativity\, music and arti
 stic expression as we celebrate the diverse talents of our students.\n\nEv
 eryone is welcome to enjoy the performances and view the unique art pieces
 .
END:VEVENT
BEGIN:VTIMEZONE
TZID:America/Chicago
X-LIC-LOCATION:America/Chicago
BEGIN:DAYLIGHT
DTSTART:20260308T030000
TZOFFSETFROM:-0600
TZOFFSETTO:-0500
TZNAME:CDT
END:DAYLIGHT
END:VTIMEZONE
END:VCALENDAR