BEGIN:VCALENDAR
VERSION:2.0
PRODID:-//wp-events-plugin.com//7.2.3.1//EN
TZID:America/Chicago
X-WR-TIMEZONE:America/Chicago
BEGIN:VEVENT
UID:735@salemjax.net
DTSTART;TZID=America/Chicago:20260521T160000
DTEND;TZID=America/Chicago:20260521T220000
DTSTAMP:20260420T013720Z
URL:https://salemjax.net/events/leos-pizza-pack-the-house-night-2/
SUMMARY:Leo's Pizza-Pack the House Night
DESCRIPTION:Be sure to mention Salem Lutheran School upon ordering. A porti
 on of the proceeds will be donated to the school.
END:VEVENT
BEGIN:VTIMEZONE
TZID:America/Chicago
X-LIC-LOCATION:America/Chicago
BEGIN:DAYLIGHT
DTSTART:20260308T030000
TZOFFSETFROM:-0600
TZOFFSETTO:-0500
TZNAME:CDT
END:DAYLIGHT
END:VTIMEZONE
END:VCALENDAR