BEGIN:VCALENDAR
VERSION:2.0
PRODID:-//wp-events-plugin.com//7.2.3.1//EN
TZID:America/Chicago
X-WR-TIMEZONE:America/Chicago
BEGIN:VEVENT
UID:600@salemjax.net
DTSTART:20260531T090000Z
DTEND:20260531T100000Z
DTSTAMP:20251224T162154Z
URL:https://salemjax.net/events/sunday-morning-worship-175/
SUMMARY:Sunday Morning Worship
DESCRIPTION:
END:VEVENT
END:VCALENDAR