BEGIN:VCALENDAR
VERSION:2.0
PRODID:-//wp-events-plugin.com//7.2.3.1//EN
TZID:America/Chicago
X-WR-TIMEZONE:America/Chicago
BEGIN:VEVENT
UID:714@salemjax.net
DTSTART:20260823T090000Z
DTEND:20260823T100000Z
DTSTAMP:20260413T024720Z
URL:https://salemjax.net/events/sunday-morning-worship-187/
SUMMARY:Sunday Morning Worship
DESCRIPTION:
END:VEVENT
END:VCALENDAR